BEGIN:VCALENDAR
VERSION:2.0
PRODID:-//AudioTheme 2.3.8
BEGIN:VEVENT
UID:urn:uuid:9d15dad9-f29d-4b41-b08a-7636b01a318c
URL:https://mitchmcvicker.com/concerts/gig-2238/
DTSTART;TZID=GMT:20200429T230000
SUMMARY:POSTPONED Riverside Christian Church
LOCATION:POSTPONED Riverside Christian Church\, 15413 State Route 49\, POSTPONED Antwerp\, OH
END:VEVENT
END:VCALENDAR
