BEGIN:VCALENDAR
VERSION:2.0
PRODID:-//AudioTheme 2.3.8
BEGIN:VEVENT
UID:urn:uuid:677e4d20-bd29-4172-ac30-b7969e534e9e
URL:https://mitchmcvicker.com/concerts/gig-2237/
DTSTART;VALUE=DATE:20070805
SUMMARY:Westchester United Methodist Church
LOCATION:Westchester United Methodist Church\, Portland\, IN
END:VEVENT
END:VCALENDAR
