BEGIN:VCALENDAR
VERSION:2.0
PRODID:-//AudioTheme 2.3.8
BEGIN:VEVENT
UID:urn:uuid:ca62331d-cf14-48a1-a304-25e0edf183ea
URL:https://mitchmcvicker.com/concerts/gig-2235/
DTSTART;VALUE=DATE:20070629
SUMMARY:"A Concert for Olivia" at Versailles Baptist Church
LOCATION:"A Concert for Olivia" at Versailles Baptist Church\, Versailles\, IN
END:VEVENT
END:VCALENDAR
