BEGIN:VCALENDAR
VERSION:2.0
PRODID:-//AudioTheme 2.3.8
BEGIN:VEVENT
UID:urn:uuid:31b004e8-ef22-403b-93da-34ce1ec27d50
URL:https://mitchmcvicker.com/concerts/gig-2231/
DTSTART;VALUE=DATE:20070623
SUMMARY:Mountain of Praise Festival
LOCATION:Mountain of Praise Festival\, Wautoma\, WI
END:VEVENT
END:VCALENDAR
