BEGIN:VCALENDAR
VERSION:2.0
PRODID:-//AudioTheme 2.3.8
BEGIN:VEVENT
UID:urn:uuid:804c908f-268c-474b-865d-5d06a0274825
URL:https://mitchmcvicker.com/concerts/gig-2229/
DTSTART;VALUE=DATE:20070621
SUMMARY:CD Release Concert at Puckett's Grocery and Restaurant for "Love Will Rise"
LOCATION:CD Release Concert at Puckett's Grocery and Restaurant for "Love Will Rise"\, Franklin (Nashville)\, TN
END:VEVENT
END:VCALENDAR
