BEGIN:VCALENDAR
VERSION:2.0
PRODID:-//AudioTheme 2.3.8
BEGIN:VEVENT
UID:urn:uuid:b94fbe60-2e79-4166-8a88-35cadc89598f
URL:https://mitchmcvicker.com/concerts/gig-2227/
DTSTART;VALUE=DATE:20070519
SUMMARY:Encounter Cafe
LOCATION:Encounter Cafe\, Elgin\, IL
END:VEVENT
END:VCALENDAR
