BEGIN:VCALENDAR
VERSION:2.0
PRODID:-//AudioTheme 2.3.8
BEGIN:VEVENT
UID:urn:uuid:1a232142-6c37-4029-a76f-24624903b71d
URL:https://mitchmcvicker.com/concerts/gig-2224/
DTSTART;VALUE=DATE:20081025
SUMMARY:Christ's Passion Church
LOCATION:Christ's Passion Church\, Joliet\, IL
END:VEVENT
END:VCALENDAR
