BEGIN:VCALENDAR
VERSION:2.0
PRODID:-//AudioTheme 2.3.8
BEGIN:VEVENT
UID:urn:uuid:480144af-0a4b-4a74-86f3-651339c92cc9
URL:https://mitchmcvicker.com/concerts/gig-2222/
DTSTART;VALUE=DATE:20081023
SUMMARY:Coliseum
LOCATION:Coliseum\, Oelwein\, IA
END:VEVENT
END:VCALENDAR
