BEGIN:VCALENDAR
VERSION:2.0
PRODID:-//AudioTheme 2.3.8
BEGIN:VEVENT
UID:urn:uuid:067ba077-87ae-48fc-ad94-ac1397afd60c
URL:https://mitchmcvicker.com/concerts/gig-2218/
DTSTART;VALUE=DATE:20081019
SUMMARY:Pavillion Coffeehouse
LOCATION:Pavillion Coffeehouse\, Cayce\, SC
END:VEVENT
END:VCALENDAR
