BEGIN:VCALENDAR
VERSION:2.0
PRODID:-//AudioTheme 2.3.8
BEGIN:VEVENT
UID:urn:uuid:6ae75950-1d47-4ec1-b296-4f8eb319bb7f
URL:https://mitchmcvicker.com/concerts/gig-2217/
DTSTART;VALUE=DATE:20081018
SUMMARY:Masonboro Baptist Church
LOCATION:Masonboro Baptist Church\, Wilmington\, NC
END:VEVENT
END:VCALENDAR
