BEGIN:VCALENDAR
VERSION:2.0
PRODID:-//AudioTheme 2.3.8
BEGIN:VEVENT
UID:urn:uuid:4bfbc268-2008-4f91-9fc8-0d7f86d0a207
URL:https://mitchmcvicker.com/concerts/gig-2216/
DTSTART;VALUE=DATE:20081017
SUMMARY:Oakwood Forest Christian Church
LOCATION:Oakwood Forest Christian Church\, Kingsport\, TN
END:VEVENT
END:VCALENDAR
