BEGIN:VCALENDAR
VERSION:2.0
PRODID:-//AudioTheme 2.3.8
BEGIN:VEVENT
UID:urn:uuid:5835590f-ba98-4b29-b4c1-eba1e54fdeba
URL:https://mitchmcvicker.com/concerts/gig-2215/
DTSTART;VALUE=DATE:20081016
SUMMARY:Penn Township Building
LOCATION:Penn Township Building\, Harrisburg(Duncannon)\, PA
END:VEVENT
END:VCALENDAR
