BEGIN:VCALENDAR
VERSION:2.0
PRODID:-//AudioTheme 2.3.8
BEGIN:VEVENT
UID:urn:uuid:271b5614-2543-4e30-97fe-3938c7aae2be
URL:https://mitchmcvicker.com/concerts/gig-2213/
DTSTART;VALUE=DATE:20081012
SUMMARY:Cape Breton University(Broadmore Playhouse)
LOCATION:Cape Breton University(Broadmore Playhouse)\, Cape Breton\, \, Nova Scotia
END:VEVENT
END:VCALENDAR
