BEGIN:VCALENDAR
VERSION:2.0
PRODID:-//AudioTheme 2.3.8
BEGIN:VEVENT
UID:urn:uuid:2540ecfa-bba9-4e99-8ca2-abc11fca1244
URL:https://mitchmcvicker.com/concerts/gig-2211/
DTSTART;VALUE=DATE:20081011
SUMMARY:All Nations Christian Reformed Church
LOCATION:All Nations Christian Reformed Church\, Halifax\, \, Nova Scotia
END:VEVENT
END:VCALENDAR
