BEGIN:VCALENDAR
VERSION:2.0
PRODID:-//AudioTheme 2.3.8
BEGIN:VEVENT
UID:urn:uuid:ae33e54a-b998-406d-9202-bccb7462a84a
URL:https://mitchmcvicker.com/concerts/gig-2207/
DTSTART;VALUE=DATE:20081007
SUMMARY:St. Leo Church
LOCATION:St. Leo Church\, Hilton\, NY
END:VEVENT
END:VCALENDAR
