BEGIN:VCALENDAR
VERSION:2.0
PRODID:-//AudioTheme 2.3.8
BEGIN:VEVENT
UID:urn:uuid:e999586c-f751-42a2-a686-60fe0becd84c
URL:https://mitchmcvicker.com/concerts/gig-2206/
DTSTART;VALUE=DATE:20081005
SUMMARY:Blessed Sacrament Church
LOCATION:Blessed Sacrament Church\, 263 Claremont Ave\, Tonawanda\, NY
END:VEVENT
END:VCALENDAR
