BEGIN:VCALENDAR
VERSION:2.0
PRODID:-//AudioTheme 2.3.8
BEGIN:VEVENT
UID:urn:uuid:341312aa-5fc0-4288-b977-41ae1af4404f
URL:https://mitchmcvicker.com/concerts/gig-2205/
DTSTART;VALUE=DATE:20081004
SUMMARY:Old Wellmen Theater
LOCATION:Old Wellmen Theater\, Youngstown\, OH
END:VEVENT
END:VCALENDAR
