BEGIN:VCALENDAR
VERSION:2.0
PRODID:-//AudioTheme 2.3.8
BEGIN:VEVENT
UID:urn:uuid:2d77dbe1-fe31-4f16-8fc6-4ca50e505309
URL:https://mitchmcvicker.com/concerts/gig-2203/
DTSTART;VALUE=DATE:20081003
SUMMARY:Vineyard Christian Fellowship of Southwest Pittsburgh
LOCATION:Vineyard Christian Fellowship of Southwest Pittsburgh\, Carnegie\, PA
END:VEVENT
END:VCALENDAR
