BEGIN:VCALENDAR
VERSION:2.0
PRODID:-//AudioTheme 2.3.8
BEGIN:VEVENT
UID:urn:uuid:30bbbab7-469b-40f1-99b7-20bd5e8df032
URL:https://mitchmcvicker.com/concerts/gig-2202/
DTSTART;VALUE=DATE:20081002
SUMMARY:Chippewa United Methodist Church
LOCATION:Chippewa United Methodist Church\, Beaver Falls\, PA
END:VEVENT
END:VCALENDAR
