BEGIN:VCALENDAR
VERSION:2.0
PRODID:-//AudioTheme 2.3.8
BEGIN:VEVENT
UID:urn:uuid:5954a7ac-6d41-4d33-8043-e1a13ee0b28c
URL:https://mitchmcvicker.com/concerts/gig-2200/
DTSTART;VALUE=DATE:20081001
SUMMARY:First Presbyterian Church
LOCATION:First Presbyterian Church\, Waynesburg\, PA
END:VEVENT
END:VCALENDAR
