BEGIN:VCALENDAR
VERSION:2.0
PRODID:-//AudioTheme 2.3.8
BEGIN:VEVENT
UID:urn:uuid:072f4b3e-1221-44a9-9a41-1eacb8e67d3c
URL:https://mitchmcvicker.com/concerts/gig-2198/
DTSTART;VALUE=DATE:20080930
SUMMARY:Ball State University Christian Campus House
LOCATION:Ball State University Christian Campus House\, Muncie\, IN
END:VEVENT
END:VCALENDAR
