BEGIN:VCALENDAR
VERSION:2.0
PRODID:-//AudioTheme 2.3.8
BEGIN:VEVENT
UID:urn:uuid:c70ee6e9-d03f-4dd7-9c24-834ce472d95c
URL:https://mitchmcvicker.com/concerts/gig-2196/
DTSTART;VALUE=DATE:20080921
SUMMARY:Grace Church of the Valley
LOCATION:Grace Church of the Valley\, Greendale\, IN
END:VEVENT
END:VCALENDAR
