BEGIN:VCALENDAR
VERSION:2.0
PRODID:-//AudioTheme 2.3.8
BEGIN:VEVENT
UID:urn:uuid:5021e63d-af20-4907-b393-b53eed9d28e4
URL:https://mitchmcvicker.com/concerts/gig-2194/
DTSTART;VALUE=DATE:20080920
SUMMARY:First Christian Church
LOCATION:First Christian Church\, Columbus\, IN
END:VEVENT
END:VCALENDAR
