BEGIN:VCALENDAR
VERSION:2.0
PRODID:-//AudioTheme 2.3.8
BEGIN:VEVENT
UID:urn:uuid:0b61d07c-c3b2-471a-819d-611456eeb81f
URL:https://mitchmcvicker.com/concerts/gig-2193/
DTSTART;VALUE=DATE:20080919
SUMMARY:Holton Christian Church - Church in the Park
LOCATION:Holton Christian Church - Church in the Park\, Holton Community Park 6805 W. Versailles St.\, Holton\, IN
END:VEVENT
END:VCALENDAR
