BEGIN:VCALENDAR
VERSION:2.0
PRODID:-//AudioTheme 2.3.8
BEGIN:VEVENT
UID:urn:uuid:684fdd0b-1f82-4504-b906-e4e84d861455
URL:https://mitchmcvicker.com/concerts/gig-2192/
DTSTART;VALUE=DATE:20080918
SUMMARY:Covington First Church of the Nazarene
LOCATION:Covington First Church of the Nazarene\, Park Hills\, KY
END:VEVENT
END:VCALENDAR
