BEGIN:VCALENDAR
VERSION:2.0
PRODID:-//AudioTheme 2.3.8
BEGIN:VEVENT
UID:urn:uuid:81c8d7cf-300e-4a1f-a752-ed6748e3460c
URL:https://mitchmcvicker.com/concerts/gig-2191/
DTSTART;VALUE=DATE:20080917
SUMMARY:Art Craft Theatre
LOCATION:Art Craft Theatre\, Indianapolis (Franklin)\, IN
END:VEVENT
END:VCALENDAR
