BEGIN:VCALENDAR
VERSION:2.0
PRODID:-//AudioTheme 2.3.8
BEGIN:VEVENT
UID:urn:uuid:cc9c3082-bcf7-4908-a9b1-7c9755250f19
URL:https://mitchmcvicker.com/concerts/gig-2189/
DTSTART;VALUE=DATE:20080916
SUMMARY:Great Lakes Christian College
LOCATION:Great Lakes Christian College\, Lansing\, MI
END:VEVENT
END:VCALENDAR
