BEGIN:VCALENDAR
VERSION:2.0
PRODID:-//AudioTheme 2.3.8
BEGIN:VEVENT
UID:urn:uuid:983133a8-d083-48d5-a195-b8aa502ae71e
URL:https://mitchmcvicker.com/concerts/gig-2187/
DTSTART;VALUE=DATE:20080914
SUMMARY:St. Mark's United Methodist Church
LOCATION:St. Mark's United Methodist Church\, Decatur\, IN
END:VEVENT
END:VCALENDAR
