BEGIN:VCALENDAR
VERSION:2.0
PRODID:-//AudioTheme 2.3.8
BEGIN:VEVENT
UID:urn:uuid:d69cee84-2343-4374-8acc-40f953c495c2
URL:https://mitchmcvicker.com/concerts/gig-2183/
DTSTART;VALUE=DATE:20080912
SUMMARY:Engstrom's House of Good
LOCATION:Engstrom's House of Good\, Elmhurst\, IL
END:VEVENT
END:VCALENDAR
