BEGIN:VCALENDAR
VERSION:2.0
PRODID:-//AudioTheme 2.3.8
BEGIN:VEVENT
UID:urn:uuid:33643f41-1077-42e9-9109-d3047677d8f3
URL:https://mitchmcvicker.com/concerts/gig-2182/
DTSTART;VALUE=DATE:20080911
SUMMARY:North Liberty Church of Christ
LOCATION:North Liberty Church of Christ\, South Bend (North Liberty)\, IN
END:VEVENT
END:VCALENDAR
