BEGIN:VCALENDAR
VERSION:2.0
PRODID:-//AudioTheme 2.3.8
BEGIN:VEVENT
UID:urn:uuid:7bc034f6-9a51-4488-9c61-7ab5c4af3bb7
URL:https://mitchmcvicker.com/concerts/gig-2180/
DTSTART;VALUE=DATE:20080910
SUMMARY:Living Hope EFC
LOCATION:Living Hope EFC\, Neilsville\, WI
END:VEVENT
END:VCALENDAR
