BEGIN:VCALENDAR
VERSION:2.0
PRODID:-//AudioTheme 2.3.8
BEGIN:VEVENT
UID:urn:uuid:d0b50601-5961-4628-9b97-e7c57fe7bde4
URL:https://mitchmcvicker.com/concerts/gig-2177/
DTSTART;VALUE=DATE:20080907
SUMMARY:South Metro Vineyard Church
LOCATION:South Metro Vineyard Church\, Burnsville\, MN
END:VEVENT
END:VCALENDAR
