BEGIN:VCALENDAR
VERSION:2.0
PRODID:-//AudioTheme 2.3.8
BEGIN:VEVENT
UID:urn:uuid:0774a1af-58d5-4707-9215-faa9ae7b0333
URL:https://mitchmcvicker.com/concerts/gig-2175/
DTSTART;VALUE=DATE:20080906
SUMMARY:Yeshuapalooza Street Level College Block Party
LOCATION:Yeshuapalooza Street Level College Block Party\, Menomonie\, WI
END:VEVENT
END:VCALENDAR
