BEGIN:VCALENDAR
VERSION:2.0
PRODID:-//AudioTheme 2.3.8
BEGIN:VEVENT
UID:urn:uuid:16276413-f844-4bcc-b8d9-bf3a5276798a
URL:https://mitchmcvicker.com/concerts/gig-2174/
DTSTART;VALUE=DATE:20080905
SUMMARY:Cup O'Joy Coffeehouse
LOCATION:Cup O'Joy Coffeehouse\, Green Bay\, WI
END:VEVENT
END:VCALENDAR
