BEGIN:VCALENDAR
VERSION:2.0
PRODID:-//AudioTheme 2.3.8
BEGIN:VEVENT
UID:urn:uuid:29103086-60d4-4869-98f5-7e8660c1b3e8
URL:https://mitchmcvicker.com/concerts/gig-2173/
DTSTART;VALUE=DATE:20080904
SUMMARY:Trinity Lutheran Church
LOCATION:Trinity Lutheran Church\, 1410 Rogers St\, Stevens Point\, WI\, USA\, 54481
END:VEVENT
END:VCALENDAR
