BEGIN:VCALENDAR
VERSION:2.0
PRODID:-//AudioTheme 2.3.8
BEGIN:VEVENT
UID:urn:uuid:b7394bf7-a5c0-4412-9fed-85d4f2cfb95f
URL:https://mitchmcvicker.com/concerts/gig-2170/
DTSTART;VALUE=DATE:20080525
SUMMARY:Parma Christian Fellowship
LOCATION:Parma Christian Fellowship\, Hilton\, NY
END:VEVENT
END:VCALENDAR
