BEGIN:VCALENDAR
VERSION:2.0
PRODID:-//AudioTheme 2.3.8
BEGIN:VEVENT
UID:urn:uuid:e42cfa29-5b92-420f-8c44-bbc99371dbca
URL:https://mitchmcvicker.com/concerts/gig-2169/
DTSTART;VALUE=DATE:20080524
SUMMARY:Community Coffeehouse
LOCATION:Community Coffeehouse\, 7 Madison Ave\, Danbury\, CT\, 06810
END:VEVENT
END:VCALENDAR
