BEGIN:VCALENDAR
VERSION:2.0
PRODID:-//AudioTheme 2.3.8
BEGIN:VEVENT
UID:urn:uuid:cff7fd0f-6dee-495f-98ad-0807460d92f3
URL:https://mitchmcvicker.com/concerts/gig-2167/
DTSTART;VALUE=DATE:20080523
SUMMARY:Taconic High School
LOCATION:Taconic High School\, Pittsfield\, MA
END:VEVENT
END:VCALENDAR
