BEGIN:VCALENDAR
VERSION:2.0
PRODID:-//AudioTheme 2.3.8
BEGIN:VEVENT
UID:urn:uuid:0bcdb098-1595-47ef-8f05-0bb7da028ddf
URL:https://mitchmcvicker.com/concerts/gig-2165/
DTSTART;VALUE=DATE:20080522
SUMMARY:The River Church
LOCATION:The River Church\, Poughkeepsie\, NY
END:VEVENT
END:VCALENDAR
