BEGIN:VCALENDAR
VERSION:2.0
PRODID:-//AudioTheme 2.3.8
BEGIN:VEVENT
UID:urn:uuid:cd60a0ec-2664-44e6-8113-3b831c6e4c60
URL:https://mitchmcvicker.com/concerts/gig-2163/
DTSTART;VALUE=DATE:20080521
SUMMARY:The Maple Room
LOCATION:The Maple Room\, Lewiston\, ME
END:VEVENT
END:VCALENDAR
