BEGIN:VCALENDAR
VERSION:2.0
PRODID:-//AudioTheme 2.3.8
BEGIN:VEVENT
UID:urn:uuid:7e37fd96-0826-474f-a417-e92028014829
URL:https://mitchmcvicker.com/concerts/gig-2161/
DTSTART;VALUE=DATE:20080518
SUMMARY:Church at Clayton Crossings
LOCATION:Church at Clayton Crossings\, Clayton\, NC
END:VEVENT
END:VCALENDAR
