BEGIN:VCALENDAR
VERSION:2.0
PRODID:-//AudioTheme 2.3.8
BEGIN:VEVENT
UID:urn:uuid:37f7b9a2-0586-4970-ac61-0b722c73a8dc
URL:https://mitchmcvicker.com/concerts/gig-2159/
DTSTART;VALUE=DATE:20080517
SUMMARY:Spiritual Wilderness Solitude
LOCATION:Spiritual Wilderness Solitude\, Jarratt\, VA
END:VEVENT
END:VCALENDAR
