BEGIN:VCALENDAR
VERSION:2.0
PRODID:-//AudioTheme 2.3.8
BEGIN:VEVENT
UID:urn:uuid:291de22a-894d-4322-9802-714bafb8ea86
URL:https://mitchmcvicker.com/concerts/gig-2157/
DTSTART;VALUE=DATE:20080516
SUMMARY:Hebrews Coffeehouse
LOCATION:Hebrews Coffeehouse\, Blountville\, TN
END:VEVENT
END:VCALENDAR
