BEGIN:VCALENDAR
VERSION:2.0
PRODID:-//AudioTheme 2.3.8
BEGIN:VEVENT
UID:urn:uuid:4407efe3-9e69-439d-b71d-2776d620edeb
URL:https://mitchmcvicker.com/concerts/gig-2156/
DTSTART;VALUE=DATE:20080504
SUMMARY:Ocean View United Methodist Church
LOCATION:Ocean View United Methodist Church\, Oak Island\, NC
END:VEVENT
END:VCALENDAR
