BEGIN:VCALENDAR
VERSION:2.0
PRODID:-//AudioTheme 2.3.8
BEGIN:VEVENT
UID:urn:uuid:7b5d9216-8c80-4757-a07e-5d872369b4f1
URL:https://mitchmcvicker.com/concerts/gig-2153/
DTSTART;VALUE=DATE:20080501
SUMMARY:Oakwood Forest Christian Church
LOCATION:Oakwood Forest Christian Church\, Kingsport\, TN
END:VEVENT
END:VCALENDAR
