BEGIN:VCALENDAR
VERSION:2.0
PRODID:-//AudioTheme 2.3.8
BEGIN:VEVENT
UID:urn:uuid:01290129-a046-401a-8879-309fbeff506c
URL:https://mitchmcvicker.com/concerts/gig-2152/
DTSTART;VALUE=DATE:20080430
SUMMARY:Plum Creek Christian Church
LOCATION:Plum Creek Christian Church\, Butler\, KY
END:VEVENT
END:VCALENDAR
