BEGIN:VCALENDAR
VERSION:2.0
PRODID:-//AudioTheme 2.3.8
BEGIN:VEVENT
UID:urn:uuid:f8b9cf9a-1865-4986-aabf-39ea660e6145
URL:https://mitchmcvicker.com/concerts/gig-2151/
DTSTART;VALUE=DATE:20080427
SUMMARY:Mosinee United Methodist Church
LOCATION:Mosinee United Methodist Church\, Mosinee\, WI
END:VEVENT
END:VCALENDAR
