BEGIN:VCALENDAR
VERSION:2.0
PRODID:-//AudioTheme 2.3.8
BEGIN:VEVENT
UID:urn:uuid:b74fcfb4-af61-495c-a73f-ea6d57826021
URL:https://mitchmcvicker.com/concerts/gig-2149/
DTSTART;VALUE=DATE:20080426
SUMMARY:First Baptist Church/Church of the Brethren
LOCATION:First Baptist Church/Church of the Brethren\, Cedar Rapids\, IA
END:VEVENT
END:VCALENDAR
