BEGIN:VCALENDAR
VERSION:2.0
PRODID:-//AudioTheme 2.3.8
BEGIN:VEVENT
UID:urn:uuid:3979eb49-38ff-47a1-bed2-aa77e82da8d7
URL:https://mitchmcvicker.com/concerts/gig-2148/
DTSTART;VALUE=DATE:20080425
SUMMARY:Middle River Friends Church
LOCATION:Middle River Friends Church\, 4057 S23 Hwy\, Carlisle\, IA\, 50047
END:VEVENT
END:VCALENDAR
