BEGIN:VCALENDAR
VERSION:2.0
PRODID:-//AudioTheme 2.3.8
BEGIN:VEVENT
UID:urn:uuid:0f273866-59a4-419b-b8c4-85e0f1c46ef8
URL:https://mitchmcvicker.com/concerts/gig-2146/
DTSTART;VALUE=DATE:20080424
SUMMARY:Maplewood Church
LOCATION:Maplewood Church\, Sedalia\, MO
END:VEVENT
END:VCALENDAR
